BEGIN:VCALENDAR
VERSION:2.0
PRODID:-//Town of Veteran - ECPv6.15.17.1//NONSGML v1.0//EN
CALSCALE:GREGORIAN
METHOD:PUBLISH
X-WR-CALNAME:Town of Veteran
X-ORIGINAL-URL:https://townofveteranny.gov
X-WR-CALDESC:Events for Town of Veteran
REFRESH-INTERVAL;VALUE=DURATION:PT1H
X-Robots-Tag:noindex
X-PUBLISHED-TTL:PT1H
BEGIN:VTIMEZONE
TZID:America/Chicago
BEGIN:DAYLIGHT
TZOFFSETFROM:-0600
TZOFFSETTO:-0500
TZNAME:CDT
DTSTART:20230312T080000
END:DAYLIGHT
BEGIN:STANDARD
TZOFFSETFROM:-0500
TZOFFSETTO:-0600
TZNAME:CST
DTSTART:20231105T070000
END:STANDARD
BEGIN:DAYLIGHT
TZOFFSETFROM:-0600
TZOFFSETTO:-0500
TZNAME:CDT
DTSTART:20240310T080000
END:DAYLIGHT
BEGIN:STANDARD
TZOFFSETFROM:-0500
TZOFFSETTO:-0600
TZNAME:CST
DTSTART:20241103T070000
END:STANDARD
BEGIN:DAYLIGHT
TZOFFSETFROM:-0600
TZOFFSETTO:-0500
TZNAME:CDT
DTSTART:20250309T080000
END:DAYLIGHT
BEGIN:STANDARD
TZOFFSETFROM:-0500
TZOFFSETTO:-0600
TZNAME:CST
DTSTART:20251102T070000
END:STANDARD
END:VTIMEZONE
BEGIN:VEVENT
DTSTART;TZID=America/Chicago:20240208T181500
DTEND;TZID=America/Chicago:20240208T190000
DTSTAMP:20260419T161030
CREATED:20240202T145949Z
LAST-MODIFIED:20240202T145949Z
UID:10001040-1707416100-1707418800@townofveteranny.gov
SUMMARY:Town Board Special Meeting
DESCRIPTION:Notice of Special Meeting of the Town of Veteran Town Council. A special meeting is scheduled for Thursday\, February 8\, 2024 6:15 to 7:00 PM EST at Veteran Town Hall\, 4049 Watkins Rd\, Millport\, NY 14864. This meeting is a workshop for the Town Board to discuss board practices for the benefit of new board members. 
URL:https://townofveteranny.gov/event/town-board-special-meeting/
CATEGORIES:Town Board
END:VEVENT
BEGIN:VEVENT
DTSTART;TZID=America/Chicago:20240208T190000
DTEND;TZID=America/Chicago:20240208T190000
DTSTAMP:20260419T161030
CREATED:20230424T203539Z
LAST-MODIFIED:20230424T203539Z
UID:10000014-1707418800-1707418800@townofveteranny.gov
SUMMARY:Town Board Meeting
DESCRIPTION:
URL:https://townofveteranny.gov/event/town-board-meeting/2024-02-08/
CATEGORIES:Town Board
END:VEVENT
BEGIN:VEVENT
DTSTART;TZID=America/Chicago:20240222T190000
DTEND;TZID=America/Chicago:20240222T190000
DTSTAMP:20260419T161030
CREATED:20240215T150205Z
LAST-MODIFIED:20240215T150205Z
UID:10001042-1708628400-1708628400@townofveteranny.gov
SUMMARY:Town Board Public Hearing
DESCRIPTION:Notice is hereby given that a public hearing will be held by the Town Board of the Town of Veteran\, at the Town Hall 4049 Watkins Rd.\, Millport on Thursday\, February 22\, 2024 at 7PM for the proposal of Local Law #2/2024 “Volunteer Firefighters and Volunteer Ambulance Workers Property Tax Exemption” All interested persons will be heard at this time
URL:https://townofveteranny.gov/event/town-board-public-hearing-4/
CATEGORIES:Town Board
ATTACH;FMTTYPE=image/jpeg:https://cdn.townweb.com/townofveteranny.gov/wp-content/uploads/2023/07/public-hearing.jpg
END:VEVENT
BEGIN:VEVENT
DTSTART;VALUE=DATE:20240229
DTEND;VALUE=DATE:20240301
DTSTAMP:20260419T161030
CREATED:20231214T195016Z
LAST-MODIFIED:20231214T195016Z
UID:10000950-1709164800-1709251199@townofveteranny.gov
SUMMARY:Taxes Paid By End of February- Penalty 1% Interest Charge
DESCRIPTION:Taxes paid between February 1st – February 28th : 1% Interest Charge Penalty
URL:https://townofveteranny.gov/event/taxes-paid-by-end-of-february-penalty-1-interest-charge-2/2024-02-29/
CATEGORIES:Town Board
END:VEVENT
END:VCALENDAR