BEGIN:VCALENDAR
VERSION:2.0
PRODID:-//Town of Veteran - ECPv6.15.17.1//NONSGML v1.0//EN
CALSCALE:GREGORIAN
METHOD:PUBLISH
X-WR-CALNAME:Town of Veteran
X-ORIGINAL-URL:https://townofveteranny.gov
X-WR-CALDESC:Events for Town of Veteran
REFRESH-INTERVAL;VALUE=DURATION:PT1H
X-Robots-Tag:noindex
X-PUBLISHED-TTL:PT1H
BEGIN:VTIMEZONE
TZID:America/Chicago
BEGIN:DAYLIGHT
TZOFFSETFROM:-0600
TZOFFSETTO:-0500
TZNAME:CDT
DTSTART:20220313T080000
END:DAYLIGHT
BEGIN:STANDARD
TZOFFSETFROM:-0500
TZOFFSETTO:-0600
TZNAME:CST
DTSTART:20221106T070000
END:STANDARD
BEGIN:DAYLIGHT
TZOFFSETFROM:-0600
TZOFFSETTO:-0500
TZNAME:CDT
DTSTART:20230312T080000
END:DAYLIGHT
BEGIN:STANDARD
TZOFFSETFROM:-0500
TZOFFSETTO:-0600
TZNAME:CST
DTSTART:20231105T070000
END:STANDARD
BEGIN:DAYLIGHT
TZOFFSETFROM:-0600
TZOFFSETTO:-0500
TZNAME:CDT
DTSTART:20240310T080000
END:DAYLIGHT
BEGIN:STANDARD
TZOFFSETFROM:-0500
TZOFFSETTO:-0600
TZNAME:CST
DTSTART:20241103T070000
END:STANDARD
BEGIN:DAYLIGHT
TZOFFSETFROM:-0600
TZOFFSETTO:-0500
TZNAME:CDT
DTSTART:20250309T080000
END:DAYLIGHT
BEGIN:STANDARD
TZOFFSETFROM:-0500
TZOFFSETTO:-0600
TZNAME:CST
DTSTART:20251102T070000
END:STANDARD
END:VTIMEZONE
BEGIN:VEVENT
DTSTART;TZID=America/Chicago:20231109T185500
DTEND;TZID=America/Chicago:20231109T190000
DTSTAMP:20260422T164817
CREATED:20231105T213902Z
LAST-MODIFIED:20231105T213902Z
UID:10000766-1699556100-1699556400@townofveteranny.gov
SUMMARY:Town Board Public Hearing
DESCRIPTION:A public hearing will be held by the Town Board\, Town of Veteran\, Chemung County\, New York on November 9\, 2023 at 6:55 pm at 4049 Watkins Rd\, Millport\, NY\, for the purpose of considering a new contract for the year 2024 with the Town and Country Fire Department for fire protection to the Town of Veteran Fire Protection District #3\, said new contract to be upon the following general terms:a.    Department shall answer and attend all fire calls in said District.b.    For such services\, Department shall be paid the sum of $81\,000 for 2024.c.    Department shall maintain and operate a fire station at Horseheads\, NY.d.    Department shall insure all of its equipment against all liability and shall protect the Town from liability for any accident in which any Department vehicle may be involved.e.    The contract shall continue until December 31\, 2024.f.    Such other incidental terms as may be necessary or proper.
URL:https://townofveteranny.gov/event/town-board-public-hearing-2/
CATEGORIES:Town Board
END:VEVENT
BEGIN:VEVENT
DTSTART;TZID=America/Chicago:20231109T190000
DTEND;TZID=America/Chicago:20231109T190000
DTSTAMP:20260422T164817
CREATED:20230424T203539Z
LAST-MODIFIED:20230424T203539Z
UID:10000011-1699556400-1699556400@townofveteranny.gov
SUMMARY:Town Board Meeting
DESCRIPTION:
URL:https://townofveteranny.gov/event/town-board-meeting/2023-11-09/
CATEGORIES:Town Board
END:VEVENT
BEGIN:VEVENT
DTSTART;TZID=America/Chicago:20231116T190000
DTEND;TZID=America/Chicago:20231116T210000
DTSTAMP:20260422T164817
CREATED:20230728T135822Z
LAST-MODIFIED:20230728T141109Z
UID:10000469-1700161200-1700168400@townofveteranny.gov
SUMMARY:Town of Veteran Historical Society Meeting
DESCRIPTION:November Location: Town Hall @ 4049 Watkins Road\, Millport 14864
URL:https://townofveteranny.gov/event/town-of-veteran-historical-society-meeting/
CATEGORIES:Town Board
END:VEVENT
BEGIN:VEVENT
DTSTART;TZID=America/Chicago:20231214T190000
DTEND;TZID=America/Chicago:20231214T190000
DTSTAMP:20260422T164817
CREATED:20230424T203539Z
LAST-MODIFIED:20230424T203539Z
UID:10000012-1702580400-1702580400@townofveteranny.gov
SUMMARY:Town Board Meeting
DESCRIPTION:
URL:https://townofveteranny.gov/event/town-board-meeting/2023-12-14/
CATEGORIES:Town Board
END:VEVENT
BEGIN:VEVENT
DTSTART;TZID=America/Chicago:20231229T120000
DTEND;TZID=America/Chicago:20231229T120000
DTSTAMP:20260422T164817
CREATED:20231221T184304Z
LAST-MODIFIED:20231221T184304Z
UID:10000957-1703851200-1703851200@townofveteranny.gov
SUMMARY:Town Board Public Hearing
DESCRIPTION:A public hearing will be held by the Town Board of the Town of Veteran\, at the Town Hall 4049 Watkins Rd.\, Millport on Friday\, December 29\, 2023 at 12PM for the proposal of Local Law #1/2023 “Appointment of Town Attorney(s) or law firm by the Town Board”
URL:https://townofveteranny.gov/event/town-board-public-hearing-3/
CATEGORIES:Town Board
END:VEVENT
BEGIN:VEVENT
DTSTART;TZID=America/Chicago:20231229T120000
DTEND;TZID=America/Chicago:20231229T120000
DTSTAMP:20260422T164818
CREATED:20231221T184343Z
LAST-MODIFIED:20231221T184343Z
UID:10000958-1703851200-1703851200@townofveteranny.gov
SUMMARY:Town Board Meeting
DESCRIPTION:
URL:https://townofveteranny.gov/event/town-board-meeting-3/
CATEGORIES:Town Board
END:VEVENT
BEGIN:VEVENT
DTSTART;TZID=America/Chicago:20240102T173000
DTEND;TZID=America/Chicago:20240102T183000
DTSTAMP:20260422T164818
CREATED:20231219T212928Z
LAST-MODIFIED:20231219T212928Z
UID:10000956-1704216600-1704220200@townofveteranny.gov
SUMMARY:2024 Organizational Meeting
DESCRIPTION:
URL:https://townofveteranny.gov/event/2024-organizational-meeting/
CATEGORIES:Town Board
END:VEVENT
BEGIN:VEVENT
DTSTART;TZID=America/Chicago:20240104T190000
DTEND;TZID=America/Chicago:20240104T200000
DTSTAMP:20260422T164818
CREATED:20240103T014814Z
LAST-MODIFIED:20240103T014814Z
UID:10001038-1704394800-1704398400@townofveteranny.gov
SUMMARY:2024 Organizational Meeting
DESCRIPTION:
URL:https://townofveteranny.gov/event/2024-organizational-meeting-2/
CATEGORIES:Town Board
END:VEVENT
BEGIN:VEVENT
DTSTART;TZID=America/Chicago:20240111T190000
DTEND;TZID=America/Chicago:20240111T190000
DTSTAMP:20260422T164818
CREATED:20230424T203539Z
LAST-MODIFIED:20230424T203539Z
UID:10000013-1704999600-1704999600@townofveteranny.gov
SUMMARY:Town Board Meeting
DESCRIPTION:
URL:https://townofveteranny.gov/event/town-board-meeting/2024-01-11/
CATEGORIES:Town Board
END:VEVENT
BEGIN:VEVENT
DTSTART;TZID=America/Chicago:20240118T190000
DTEND;TZID=America/Chicago:20240118T190000
DTSTAMP:20260422T164818
CREATED:20230728T140925Z
LAST-MODIFIED:20230728T140925Z
UID:10000470-1705604400-1705604400@townofveteranny.gov
SUMMARY:Town of Veteran Historical Society Meeting
DESCRIPTION:January Location: Town Hall @ 4049 Watkins Road\, Millport 14864
URL:https://townofveteranny.gov/event/town-of-veteran-historical-society-meeting-2/
CATEGORIES:Town Board
END:VEVENT
BEGIN:VEVENT
DTSTART;VALUE=DATE:20240131
DTEND;VALUE=DATE:20240201
DTSTAMP:20260422T164818
CREATED:20231026T142723Z
LAST-MODIFIED:20231026T142723Z
UID:10000748-1706659200-1706745599@townofveteranny.gov
SUMMARY:Taxes Due
DESCRIPTION:Taxes paid before January 31st – No Penalty
URL:https://townofveteranny.gov/event/taxes-due/2024-01-31/
CATEGORIES:Town Board
END:VEVENT
BEGIN:VEVENT
DTSTART;TZID=America/Chicago:20240208T181500
DTEND;TZID=America/Chicago:20240208T190000
DTSTAMP:20260422T164818
CREATED:20240202T145949Z
LAST-MODIFIED:20240202T145949Z
UID:10001040-1707416100-1707418800@townofveteranny.gov
SUMMARY:Town Board Special Meeting
DESCRIPTION:Notice of Special Meeting of the Town of Veteran Town Council. A special meeting is scheduled for Thursday\, February 8\, 2024 6:15 to 7:00 PM EST at Veteran Town Hall\, 4049 Watkins Rd\, Millport\, NY 14864. This meeting is a workshop for the Town Board to discuss board practices for the benefit of new board members. 
URL:https://townofveteranny.gov/event/town-board-special-meeting/
CATEGORIES:Town Board
END:VEVENT
BEGIN:VEVENT
DTSTART;TZID=America/Chicago:20240208T190000
DTEND;TZID=America/Chicago:20240208T190000
DTSTAMP:20260422T164818
CREATED:20230424T203539Z
LAST-MODIFIED:20230424T203539Z
UID:10000014-1707418800-1707418800@townofveteranny.gov
SUMMARY:Town Board Meeting
DESCRIPTION:
URL:https://townofveteranny.gov/event/town-board-meeting/2024-02-08/
CATEGORIES:Town Board
END:VEVENT
BEGIN:VEVENT
DTSTART;TZID=America/Chicago:20240222T190000
DTEND;TZID=America/Chicago:20240222T190000
DTSTAMP:20260422T164818
CREATED:20240215T150205Z
LAST-MODIFIED:20240215T150205Z
UID:10001042-1708628400-1708628400@townofveteranny.gov
SUMMARY:Town Board Public Hearing
DESCRIPTION:Notice is hereby given that a public hearing will be held by the Town Board of the Town of Veteran\, at the Town Hall 4049 Watkins Rd.\, Millport on Thursday\, February 22\, 2024 at 7PM for the proposal of Local Law #2/2024 “Volunteer Firefighters and Volunteer Ambulance Workers Property Tax Exemption” All interested persons will be heard at this time
URL:https://townofveteranny.gov/event/town-board-public-hearing-4/
CATEGORIES:Town Board
ATTACH;FMTTYPE=image/jpeg:https://cdn.townweb.com/townofveteranny.gov/wp-content/uploads/2023/07/public-hearing.jpg
END:VEVENT
BEGIN:VEVENT
DTSTART;VALUE=DATE:20240229
DTEND;VALUE=DATE:20240301
DTSTAMP:20260422T164818
CREATED:20231214T195016Z
LAST-MODIFIED:20231214T195016Z
UID:10000950-1709164800-1709251199@townofveteranny.gov
SUMMARY:Taxes Paid By End of February- Penalty 1% Interest Charge
DESCRIPTION:Taxes paid between February 1st – February 28th : 1% Interest Charge Penalty
URL:https://townofveteranny.gov/event/taxes-paid-by-end-of-february-penalty-1-interest-charge-2/2024-02-29/
CATEGORIES:Town Board
END:VEVENT
BEGIN:VEVENT
DTSTART;VALUE=DATE:20240301
DTEND;VALUE=DATE:20240302
DTSTAMP:20260422T164818
CREATED:20230724T200154Z
LAST-MODIFIED:20230724T200154Z
UID:10000457-1709251200-1709337599@townofveteranny.gov
SUMMARY:"Taxable Status Date"
DESCRIPTION: “Taxable Status Date” \nThe last day to apply for exemptions and assessment review.
URL:https://townofveteranny.gov/event/taxable-status-date/2024-03-01/
CATEGORIES:Town Board
END:VEVENT
BEGIN:VEVENT
DTSTART;TZID=America/Chicago:20240314T190000
DTEND;TZID=America/Chicago:20240314T190000
DTSTAMP:20260422T164818
CREATED:20230424T203539Z
LAST-MODIFIED:20230424T203539Z
UID:10000015-1710442800-1710442800@townofveteranny.gov
SUMMARY:Town Board Meeting
DESCRIPTION:
URL:https://townofveteranny.gov/event/town-board-meeting/2024-03-14/
CATEGORIES:Town Board
END:VEVENT
BEGIN:VEVENT
DTSTART;TZID=America/Chicago:20240314T190000
DTEND;TZID=America/Chicago:20240314T190000
DTSTAMP:20260422T164818
CREATED:20240229T170532Z
LAST-MODIFIED:20240229T170532Z
UID:10001043-1710442800-1710442800@townofveteranny.gov
SUMMARY:Town Board Public Hearing
DESCRIPTION:Notice is hereby given that a public hearing will be held by the Town Board of the Town of Veteran\, at the Town Hall 4049 Watkins Rd.\, Millport on Thursday\, March 14\, 2024 at 7PM for the proposal of Local Law #3/2024 “Town of Veteran Moratorium on Tier 3 Solar Energy Systems”
URL:https://townofveteranny.gov/event/town-board-public-hearing-5/
CATEGORIES:Town Board
ATTACH;FMTTYPE=image/jpeg:https://cdn.townweb.com/townofveteranny.gov/wp-content/uploads/2023/07/public-hearing.jpg
END:VEVENT
BEGIN:VEVENT
DTSTART;TZID=America/Chicago:20240321T190000
DTEND;TZID=America/Chicago:20240321T190000
DTSTAMP:20260422T164818
CREATED:20231013T171337Z
LAST-MODIFIED:20231013T171337Z
UID:10000746-1711047600-1711047600@townofveteranny.gov
SUMMARY:Town of Veteran Historical Society
DESCRIPTION:
URL:https://townofveteranny.gov/event/town-of-veteran-historical-society/
CATEGORIES:Town Board
END:VEVENT
BEGIN:VEVENT
DTSTART;TZID=America/Chicago:20240328T180000
DTEND;TZID=America/Chicago:20240328T180000
DTSTAMP:20260422T164818
CREATED:20240322T152046Z
LAST-MODIFIED:20240322T152046Z
UID:10001045-1711648800-1711648800@townofveteranny.gov
SUMMARY:Open Meetings Law Training
DESCRIPTION:Kristin O’Niell\, Deputy Director and Counsel of the NYS Committee on Open Government\, will be providing training on the Open Meetings Law at the Town of Veteran Town Hall on Thursday March 28\, 2024 at 6:00 PM. All interested parties are invited to attend
URL:https://townofveteranny.gov/event/open-meetings-law-training/
CATEGORIES:Town Board
ATTACH;FMTTYPE=image/jpeg:https://cdn.townweb.com/townofveteranny.gov/wp-content/uploads/2024/03/OML-Picture-1.jpg
END:VEVENT
BEGIN:VEVENT
DTSTART;TZID=America/Chicago:20240328T190000
DTEND;TZID=America/Chicago:20240328T190000
DTSTAMP:20260422T164818
CREATED:20240322T151800Z
LAST-MODIFIED:20240322T151800Z
UID:10001044-1711652400-1711652400@townofveteranny.gov
SUMMARY:Town of Veteran Town Board Meeting
DESCRIPTION:The Town of Veteran Town Board will meet on Thursday\, March 28\, 2024 at 7:30 PM. The purpose of the meeting is for extended discussion on the following topics: \n1. Setting Objectives2. Functions of the Town Board3. Motions and Resolutions4. Review of Special Assistance for Solar and Moratorium5. Mobile 3116. Historical Society Financial Support \nThe location of the meeting is Town of Veteran – Town Hall\, 4049 Watkins Road\, Millport\, NY 14864.
URL:https://townofveteranny.gov/event/town-of-veteran-town-board-meeting/
CATEGORIES:Town Board
ATTACH;FMTTYPE=image/png:https://cdn.townweb.com/townofveteranny.gov/wp-content/uploads/2023/07/Town-of-Veteran.png
END:VEVENT
BEGIN:VEVENT
DTSTART;VALUE=DATE:20240329
DTEND;VALUE=DATE:20240330
DTSTAMP:20260422T164818
CREATED:20240322T152724Z
LAST-MODIFIED:20240325T203057Z
UID:10001046-1711670400-1711756799@townofveteranny.gov
SUMMARY:Town Hall Offices Closed
DESCRIPTION:The Town Hall Offices closed on Friday\, March 29th in Observance of Good Friday.
URL:https://townofveteranny.gov/event/town-hall-offices-closed/
CATEGORIES:Town Board
ATTACH;FMTTYPE=image/jpeg:https://cdn.townweb.com/townofveteranny.gov/wp-content/uploads/2024/03/Good-Friday-Closed.jpg
END:VEVENT
BEGIN:VEVENT
DTSTART;TZID=America/Chicago:20240401T093000
DTEND;TZID=America/Chicago:20240401T170000
DTSTAMP:20260422T164818
CREATED:20240322T163814Z
LAST-MODIFIED:20240322T163814Z
UID:10001052-1711963800-1711990800@townofveteranny.gov
SUMMARY:Last Day to Collect Taxes
DESCRIPTION:Last Day to Pay Town and County 2024 Property Taxes at Town Clerk’s Office Located 4049 Watkins Road\, Millport\, NY 14864
URL:https://townofveteranny.gov/event/last-day-to-collect-taxes/
CATEGORIES:Town Board
END:VEVENT
BEGIN:VEVENT
DTSTART;TZID=America/Chicago:20240408T093000
DTEND;TZID=America/Chicago:20240408T130000
DTSTAMP:20260422T164818
CREATED:20240405T165543Z
LAST-MODIFIED:20240405T165543Z
UID:10001181-1712568600-1712581200@townofveteranny.gov
SUMMARY:Town Clerk Office Hours
DESCRIPTION:The Town Clerk’s Office Will Close at 1PM on Monday\, April 8\, 2024.  \n  \nIn Regard to of the Solar Eclipse\, Check Out the Links Below. \nRochester Total Eclipse 2024 – Rochester Total Solar Eclipse 2024 (rochestereclipse2024.org) \nhttps://www.greatamericaneclipse.com/new-york-2024-eclipse \nhttps://science.nasa.gov/eclipses/future-eclipses/eclipse-2024/ \n  \nPlease Remember: Come Early\, Stay Late\, Be Patient\, & Expect Delays.
URL:https://townofveteranny.gov/event/town-clerk-office-hours-2/
CATEGORIES:Town Board
ATTACH;FMTTYPE=image/jpeg:https://cdn.townweb.com/townofveteranny.gov/wp-content/uploads/2024/04/family-watching-solar-eclipse.jpg
END:VEVENT
BEGIN:VEVENT
DTSTART;TZID=America/Chicago:20240411T190000
DTEND;TZID=America/Chicago:20240411T190000
DTSTAMP:20260422T164818
CREATED:20230424T203539Z
LAST-MODIFIED:20230424T203539Z
UID:10000016-1712862000-1712862000@townofveteranny.gov
SUMMARY:Town Board Meeting
DESCRIPTION:
URL:https://townofveteranny.gov/event/town-board-meeting/2024-04-11/
CATEGORIES:Town Board
END:VEVENT
BEGIN:VEVENT
DTSTART;TZID=America/Chicago:20240418T190000
DTEND;TZID=America/Chicago:20240418T190000
DTSTAMP:20260422T164818
CREATED:20240412T172003Z
LAST-MODIFIED:20240412T172003Z
UID:10001193-1713466800-1713466800@townofveteranny.gov
SUMMARY:Town Board Meeting
DESCRIPTION:
URL:https://townofveteranny.gov/event/town-board-meeting-5/2024-04-18/
CATEGORIES:Town Board
END:VEVENT
BEGIN:VEVENT
DTSTART;TZID=America/Chicago:20240419T180000
DTEND;TZID=America/Chicago:20240419T180000
DTSTAMP:20260422T164818
CREATED:20240412T190557Z
LAST-MODIFIED:20240412T190713Z
UID:10001202-1713549600-1713549600@townofveteranny.gov
SUMMARY:Town of Veteran Historical Society Meeting
DESCRIPTION:Location: 4049 Watkins Rd.\, Millport\, NY 14864
URL:https://townofveteranny.gov/event/town-of-veteran-historical-society-meeting-6/
CATEGORIES:Town Board
END:VEVENT
BEGIN:VEVENT
DTSTART;VALUE=DATE:20240422
DTEND;VALUE=DATE:20240423
DTSTAMP:20260422T164818
CREATED:20240419T180914Z
LAST-MODIFIED:20240419T181140Z
UID:10001203-1713744000-1713830399@townofveteranny.gov
SUMMARY:No Code Enforcement Office Hours
DESCRIPTION:If you need to contact the Code Enforcement Officer during that time\, Call (607) 742-9645.
URL:https://townofveteranny.gov/event/no-office-hours-for-code-enforcement-officer/
CATEGORIES:Town Board
END:VEVENT
BEGIN:VEVENT
DTSTART;VALUE=DATE:20240501
DTEND;VALUE=DATE:20240502
DTSTAMP:20260422T164818
CREATED:20230724T200517Z
LAST-MODIFIED:20230724T200517Z
UID:10000460-1714521600-1714607999@townofveteranny.gov
SUMMARY:Tentative Assessment Roll
DESCRIPTION:May 1st: \nThe Tentative Assessment Roll is filed
URL:https://townofveteranny.gov/event/tentative-assessment-roll/2024-05-01/
CATEGORIES:Town Board
END:VEVENT
BEGIN:VEVENT
DTSTART;TZID=America/Chicago:20240508T100000
DTEND;TZID=America/Chicago:20240508T120000
DTSTAMP:20260422T164818
CREATED:20240506T204741Z
LAST-MODIFIED:20240506T205128Z
UID:10001204-1715162400-1715169600@townofveteranny.gov
SUMMARY:Tentative Assessment Roll-The Assessor will be in attendance with the tentative assessment roll during this time. 
DESCRIPTION:
URL:https://townofveteranny.gov/event/assessor-tentative-assessment-roll/
CATEGORIES:Town Board
ATTACH;FMTTYPE=image/jpeg:https://cdn.townweb.com/townofveteranny.gov/wp-content/uploads/2024/05/assessment_2.jpg
END:VEVENT
END:VCALENDAR