BEGIN:VCALENDAR
VERSION:2.0
PRODID:-//Town of Veteran - ECPv6.15.17.1//NONSGML v1.0//EN
CALSCALE:GREGORIAN
METHOD:PUBLISH
X-WR-CALNAME:Town of Veteran
X-ORIGINAL-URL:https://townofveteranny.gov
X-WR-CALDESC:Events for Town of Veteran
REFRESH-INTERVAL;VALUE=DURATION:PT1H
X-Robots-Tag:noindex
X-PUBLISHED-TTL:PT1H
BEGIN:VTIMEZONE
TZID:America/Chicago
BEGIN:DAYLIGHT
TZOFFSETFROM:-0600
TZOFFSETTO:-0500
TZNAME:CDT
DTSTART:20220313T080000
END:DAYLIGHT
BEGIN:STANDARD
TZOFFSETFROM:-0500
TZOFFSETTO:-0600
TZNAME:CST
DTSTART:20221106T070000
END:STANDARD
BEGIN:DAYLIGHT
TZOFFSETFROM:-0600
TZOFFSETTO:-0500
TZNAME:CDT
DTSTART:20230312T080000
END:DAYLIGHT
BEGIN:STANDARD
TZOFFSETFROM:-0500
TZOFFSETTO:-0600
TZNAME:CST
DTSTART:20231105T070000
END:STANDARD
BEGIN:DAYLIGHT
TZOFFSETFROM:-0600
TZOFFSETTO:-0500
TZNAME:CDT
DTSTART:20240310T080000
END:DAYLIGHT
BEGIN:STANDARD
TZOFFSETFROM:-0500
TZOFFSETTO:-0600
TZNAME:CST
DTSTART:20241103T070000
END:STANDARD
END:VTIMEZONE
BEGIN:VEVENT
DTSTART;VALUE=DATE:20230701
DTEND;VALUE=DATE:20230702
DTSTAMP:20260422T194430
CREATED:20230724T200914Z
LAST-MODIFIED:20230724T200914Z
UID:10000465-1688169600-1688255999@townofveteranny.gov
SUMMARY:Final Assessment Roll
DESCRIPTION:July 1st: \nFinal Assessment Roll filed
URL:https://townofveteranny.gov/event/final-assessment-roll/2023-07-01/
CATEGORIES:Town Board
END:VEVENT
BEGIN:VEVENT
DTSTART;TZID=America/Chicago:20230710T190000
DTEND;TZID=America/Chicago:20230710T200000
DTSTAMP:20260422T194430
CREATED:20230707T203459Z
LAST-MODIFIED:20230707T203459Z
UID:10000323-1689015600-1689019200@townofveteranny.gov
SUMMARY:Planning Board Meeting
DESCRIPTION:Due to the Holiday\, Planning Board Meeting is scheduled for July 10\, 2023
URL:https://townofveteranny.gov/event/planning-board-meeting/
CATEGORIES:Planning Board
END:VEVENT
BEGIN:VEVENT
DTSTART;TZID=America/Chicago:20230712T173000
DTEND;TZID=America/Chicago:20230712T173000
DTSTAMP:20260422T194430
CREATED:20230424T203722Z
LAST-MODIFIED:20230424T203722Z
UID:10000134-1689183000-1689183000@townofveteranny.gov
SUMMARY:Court
DESCRIPTION:
URL:https://townofveteranny.gov/event/court/2023-07-12/
CATEGORIES:Court
END:VEVENT
BEGIN:VEVENT
DTSTART;TZID=America/Chicago:20230713T190000
DTEND;TZID=America/Chicago:20230713T190000
DTSTAMP:20260422T194430
CREATED:20230424T203539Z
LAST-MODIFIED:20230424T203539Z
UID:10000007-1689274800-1689274800@townofveteranny.gov
SUMMARY:Town Board Meeting
DESCRIPTION:
URL:https://townofveteranny.gov/event/town-board-meeting/2023-07-13/
CATEGORIES:Town Board
END:VEVENT
BEGIN:VEVENT
DTSTART;TZID=America/Chicago:20230719T173000
DTEND;TZID=America/Chicago:20230719T173000
DTSTAMP:20260422T194430
CREATED:20230424T203752Z
LAST-MODIFIED:20230424T203752Z
UID:10000198-1689787800-1689787800@townofveteranny.gov
SUMMARY:Court
DESCRIPTION:
URL:https://townofveteranny.gov/event/court-2/2023-07-19/
CATEGORIES:Court
END:VEVENT
BEGIN:VEVENT
DTSTART;TZID=America/Chicago:20230731T173000
DTEND;TZID=America/Chicago:20230731T183000
DTSTAMP:20260422T194430
CREATED:20230724T195014Z
LAST-MODIFIED:20230724T195014Z
UID:10000349-1690824600-1690828200@townofveteranny.gov
SUMMARY:Zoning Board of Appeals
DESCRIPTION:
URL:https://townofveteranny.gov/event/zoning-board-of-appeals/
CATEGORIES:Town Board
END:VEVENT
END:VCALENDAR