BEGIN:VCALENDAR
VERSION:2.0
PRODID:-//Town of Veteran - ECPv6.15.17.1//NONSGML v1.0//EN
CALSCALE:GREGORIAN
METHOD:PUBLISH
X-WR-CALNAME:Town of Veteran
X-ORIGINAL-URL:https://townofveteranny.gov
X-WR-CALDESC:Events for Town of Veteran
REFRESH-INTERVAL;VALUE=DURATION:PT1H
X-Robots-Tag:noindex
X-PUBLISHED-TTL:PT1H
BEGIN:VTIMEZONE
TZID:America/Chicago
BEGIN:DAYLIGHT
TZOFFSETFROM:-0600
TZOFFSETTO:-0500
TZNAME:CDT
DTSTART:20220313T080000
END:DAYLIGHT
BEGIN:STANDARD
TZOFFSETFROM:-0500
TZOFFSETTO:-0600
TZNAME:CST
DTSTART:20221106T070000
END:STANDARD
BEGIN:DAYLIGHT
TZOFFSETFROM:-0600
TZOFFSETTO:-0500
TZNAME:CDT
DTSTART:20230312T080000
END:DAYLIGHT
BEGIN:STANDARD
TZOFFSETFROM:-0500
TZOFFSETTO:-0600
TZNAME:CST
DTSTART:20231105T070000
END:STANDARD
BEGIN:DAYLIGHT
TZOFFSETFROM:-0600
TZOFFSETTO:-0500
TZNAME:CDT
DTSTART:20240310T080000
END:DAYLIGHT
BEGIN:STANDARD
TZOFFSETFROM:-0500
TZOFFSETTO:-0600
TZNAME:CST
DTSTART:20241103T070000
END:STANDARD
END:VTIMEZONE
BEGIN:VEVENT
DTSTART;TZID=America/Chicago:20230904T190000
DTEND;TZID=America/Chicago:20230904T190000
DTSTAMP:20260420T123847
CREATED:20231214T210425Z
LAST-MODIFIED:20231214T210425Z
UID:10000952-1693854000-1693854000@townofveteranny.gov
SUMMARY:Planning Board Meeting
DESCRIPTION:
URL:https://townofveteranny.gov/event/planning-board-meeting-4/2023-09-04/
CATEGORIES:Planning Board
END:VEVENT
BEGIN:VEVENT
DTSTART;TZID=America/Chicago:20230911T190000
DTEND;TZID=America/Chicago:20230911T190000
DTSTAMP:20260420T123847
CREATED:20230814T152839Z
LAST-MODIFIED:20230814T152839Z
UID:10000473-1694458800-1694458800@townofveteranny.gov
SUMMARY:Planning Board Meeting
DESCRIPTION:Due to the Holiday\, the Planning Board will meet the 2nd Monday of September.  \n 
URL:https://townofveteranny.gov/event/planning-board-meeting-2/
CATEGORIES:Planning Board
END:VEVENT
BEGIN:VEVENT
DTSTART;TZID=America/Chicago:20230913T173000
DTEND;TZID=America/Chicago:20230913T173000
DTSTAMP:20260420T123847
CREATED:20230424T203722Z
LAST-MODIFIED:20230424T203722Z
UID:10000136-1694626200-1694626200@townofveteranny.gov
SUMMARY:Court
DESCRIPTION:
URL:https://townofveteranny.gov/event/court/2023-09-13/
CATEGORIES:Court
END:VEVENT
BEGIN:VEVENT
DTSTART;TZID=America/Chicago:20230914T190000
DTEND;TZID=America/Chicago:20230914T190000
DTSTAMP:20260420T123847
CREATED:20230424T203539Z
LAST-MODIFIED:20230424T203539Z
UID:10000009-1694718000-1694718000@townofveteranny.gov
SUMMARY:Town Board Meeting
DESCRIPTION:
URL:https://townofveteranny.gov/event/town-board-meeting/2023-09-14/
CATEGORIES:Town Board
END:VEVENT
BEGIN:VEVENT
DTSTART;TZID=America/Chicago:20230920T173000
DTEND;TZID=America/Chicago:20230920T173000
DTSTAMP:20260420T123847
CREATED:20230424T203752Z
LAST-MODIFIED:20230424T203752Z
UID:10000200-1695231000-1695231000@townofveteranny.gov
SUMMARY:Court
DESCRIPTION:
URL:https://townofveteranny.gov/event/court-2/2023-09-20/
CATEGORIES:Court
END:VEVENT
END:VCALENDAR