BEGIN:VCALENDAR
VERSION:2.0
PRODID:-//Town of Veteran - ECPv6.15.17.1//NONSGML v1.0//EN
CALSCALE:GREGORIAN
METHOD:PUBLISH
X-WR-CALNAME:Town of Veteran
X-ORIGINAL-URL:https://townofveteranny.gov
X-WR-CALDESC:Events for Town of Veteran
REFRESH-INTERVAL;VALUE=DURATION:PT1H
X-Robots-Tag:noindex
X-PUBLISHED-TTL:PT1H
BEGIN:VTIMEZONE
TZID:America/Chicago
BEGIN:DAYLIGHT
TZOFFSETFROM:-0600
TZOFFSETTO:-0500
TZNAME:CDT
DTSTART:20220313T080000
END:DAYLIGHT
BEGIN:STANDARD
TZOFFSETFROM:-0500
TZOFFSETTO:-0600
TZNAME:CST
DTSTART:20221106T070000
END:STANDARD
BEGIN:DAYLIGHT
TZOFFSETFROM:-0600
TZOFFSETTO:-0500
TZNAME:CDT
DTSTART:20230312T080000
END:DAYLIGHT
BEGIN:STANDARD
TZOFFSETFROM:-0500
TZOFFSETTO:-0600
TZNAME:CST
DTSTART:20231105T070000
END:STANDARD
BEGIN:DAYLIGHT
TZOFFSETFROM:-0600
TZOFFSETTO:-0500
TZNAME:CDT
DTSTART:20240310T080000
END:DAYLIGHT
BEGIN:STANDARD
TZOFFSETFROM:-0500
TZOFFSETTO:-0600
TZNAME:CST
DTSTART:20241103T070000
END:STANDARD
END:VTIMEZONE
BEGIN:VEVENT
DTSTART;TZID=America/Chicago:20231204T190000
DTEND;TZID=America/Chicago:20231204T190000
DTSTAMP:20260420T052210
CREATED:20231214T210425Z
LAST-MODIFIED:20231214T210425Z
UID:10000955-1701716400-1701716400@townofveteranny.gov
SUMMARY:Planning Board Meeting
DESCRIPTION:
URL:https://townofveteranny.gov/event/planning-board-meeting-4/2023-12-04/
CATEGORIES:Planning Board
END:VEVENT
BEGIN:VEVENT
DTSTART;TZID=America/Chicago:20231213T173000
DTEND;TZID=America/Chicago:20231213T173000
DTSTAMP:20260420T052210
CREATED:20230424T203722Z
LAST-MODIFIED:20230424T203722Z
UID:10000139-1702488600-1702488600@townofveteranny.gov
SUMMARY:Court
DESCRIPTION:
URL:https://townofveteranny.gov/event/court/2023-12-13/
CATEGORIES:Court
END:VEVENT
BEGIN:VEVENT
DTSTART;TZID=America/Chicago:20231214T190000
DTEND;TZID=America/Chicago:20231214T190000
DTSTAMP:20260420T052210
CREATED:20230424T203539Z
LAST-MODIFIED:20230424T203539Z
UID:10000012-1702580400-1702580400@townofveteranny.gov
SUMMARY:Town Board Meeting
DESCRIPTION:
URL:https://townofveteranny.gov/event/town-board-meeting/2023-12-14/
CATEGORIES:Town Board
END:VEVENT
BEGIN:VEVENT
DTSTART;TZID=America/Chicago:20231220T173000
DTEND;TZID=America/Chicago:20231220T173000
DTSTAMP:20260420T052210
CREATED:20230424T203752Z
LAST-MODIFIED:20230424T203752Z
UID:10000203-1703093400-1703093400@townofveteranny.gov
SUMMARY:Court
DESCRIPTION:
URL:https://townofveteranny.gov/event/court-2/2023-12-20/
CATEGORIES:Court
END:VEVENT
BEGIN:VEVENT
DTSTART;TZID=America/Chicago:20231229T120000
DTEND;TZID=America/Chicago:20231229T120000
DTSTAMP:20260420T052210
CREATED:20231221T184304Z
LAST-MODIFIED:20231221T184304Z
UID:10000957-1703851200-1703851200@townofveteranny.gov
SUMMARY:Town Board Public Hearing
DESCRIPTION:A public hearing will be held by the Town Board of the Town of Veteran\, at the Town Hall 4049 Watkins Rd.\, Millport on Friday\, December 29\, 2023 at 12PM for the proposal of Local Law #1/2023 “Appointment of Town Attorney(s) or law firm by the Town Board”
URL:https://townofveteranny.gov/event/town-board-public-hearing-3/
CATEGORIES:Town Board
END:VEVENT
BEGIN:VEVENT
DTSTART;TZID=America/Chicago:20231229T120000
DTEND;TZID=America/Chicago:20231229T120000
DTSTAMP:20260420T052210
CREATED:20231221T184343Z
LAST-MODIFIED:20231221T184343Z
UID:10000958-1703851200-1703851200@townofveteranny.gov
SUMMARY:Town Board Meeting
DESCRIPTION:
URL:https://townofveteranny.gov/event/town-board-meeting-3/
CATEGORIES:Town Board
END:VEVENT
END:VCALENDAR