BEGIN:VCALENDAR
VERSION:2.0
PRODID:-//Town of Veteran - ECPv6.15.17.1//NONSGML v1.0//EN
CALSCALE:GREGORIAN
METHOD:PUBLISH
X-WR-CALNAME:Town of Veteran
X-ORIGINAL-URL:https://townofveteranny.gov
X-WR-CALDESC:Events for Town of Veteran
REFRESH-INTERVAL;VALUE=DURATION:PT1H
X-Robots-Tag:noindex
X-PUBLISHED-TTL:PT1H
BEGIN:VTIMEZONE
TZID:America/Chicago
BEGIN:DAYLIGHT
TZOFFSETFROM:-0600
TZOFFSETTO:-0500
TZNAME:CDT
DTSTART:20230312T080000
END:DAYLIGHT
BEGIN:STANDARD
TZOFFSETFROM:-0500
TZOFFSETTO:-0600
TZNAME:CST
DTSTART:20231105T070000
END:STANDARD
BEGIN:DAYLIGHT
TZOFFSETFROM:-0600
TZOFFSETTO:-0500
TZNAME:CDT
DTSTART:20240310T080000
END:DAYLIGHT
BEGIN:STANDARD
TZOFFSETFROM:-0500
TZOFFSETTO:-0600
TZNAME:CST
DTSTART:20241103T070000
END:STANDARD
BEGIN:DAYLIGHT
TZOFFSETFROM:-0600
TZOFFSETTO:-0500
TZNAME:CDT
DTSTART:20250309T080000
END:DAYLIGHT
BEGIN:STANDARD
TZOFFSETFROM:-0500
TZOFFSETTO:-0600
TZNAME:CST
DTSTART:20251102T070000
END:STANDARD
END:VTIMEZONE
BEGIN:VEVENT
DTSTART;TZID=America/Chicago:20240401T093000
DTEND;TZID=America/Chicago:20240401T170000
DTSTAMP:20260419T232739
CREATED:20240322T163814Z
LAST-MODIFIED:20240322T163814Z
UID:10001052-1711963800-1711990800@townofveteranny.gov
SUMMARY:Last Day to Collect Taxes
DESCRIPTION:Last Day to Pay Town and County 2024 Property Taxes at Town Clerk’s Office Located 4049 Watkins Road\, Millport\, NY 14864
URL:https://townofveteranny.gov/event/last-day-to-collect-taxes/
CATEGORIES:Town Board
END:VEVENT
BEGIN:VEVENT
DTSTART;TZID=America/Chicago:20240401T190000
DTEND;TZID=America/Chicago:20240401T190000
DTSTAMP:20260419T232739
CREATED:20231214T192907Z
LAST-MODIFIED:20231214T192907Z
UID:10000772-1711998000-1711998000@townofveteranny.gov
SUMMARY:Planning Board Meeting
DESCRIPTION:
URL:https://townofveteranny.gov/event/planning-board-meeting-5/2024-04-01/
CATEGORIES:Planning Board
END:VEVENT
BEGIN:VEVENT
DTSTART;TZID=America/Chicago:20240402T060000
DTEND;TZID=America/Chicago:20240402T210000
DTSTAMP:20260419T232739
CREATED:20240325T201853Z
LAST-MODIFIED:20240325T201853Z
UID:10001053-1712037600-1712091600@townofveteranny.gov
SUMMARY:Presidential Primary Election
DESCRIPTION:
URL:https://townofveteranny.gov/event/presidential-primary-election/
CATEGORIES:Elections
END:VEVENT
BEGIN:VEVENT
DTSTART;TZID=America/Chicago:20240402T163000
DTEND;TZID=America/Chicago:20240402T183000
DTSTAMP:20260419T232739
CREATED:20240326T205216Z
LAST-MODIFIED:20240326T205216Z
UID:10001070-1712075400-1712082600@townofveteranny.gov
SUMMARY:Court Clerk Hours
DESCRIPTION:
URL:https://townofveteranny.gov/event/court-clerk-hours/2024-04-02/
CATEGORIES:Court
END:VEVENT
BEGIN:VEVENT
DTSTART;TZID=America/Chicago:20240408T093000
DTEND;TZID=America/Chicago:20240408T130000
DTSTAMP:20260419T232739
CREATED:20240405T165543Z
LAST-MODIFIED:20240405T165543Z
UID:10001181-1712568600-1712581200@townofveteranny.gov
SUMMARY:Town Clerk Office Hours
DESCRIPTION:The Town Clerk’s Office Will Close at 1PM on Monday\, April 8\, 2024.  \n  \nIn Regard to of the Solar Eclipse\, Check Out the Links Below. \nRochester Total Eclipse 2024 – Rochester Total Solar Eclipse 2024 (rochestereclipse2024.org) \nhttps://www.greatamericaneclipse.com/new-york-2024-eclipse \nhttps://science.nasa.gov/eclipses/future-eclipses/eclipse-2024/ \n  \nPlease Remember: Come Early\, Stay Late\, Be Patient\, & Expect Delays.
URL:https://townofveteranny.gov/event/town-clerk-office-hours-2/
CATEGORIES:Town Board
ATTACH;FMTTYPE=image/jpeg:https://cdn.townweb.com/townofveteranny.gov/wp-content/uploads/2024/04/family-watching-solar-eclipse.jpg
END:VEVENT
BEGIN:VEVENT
DTSTART;TZID=America/Chicago:20240409T163000
DTEND;TZID=America/Chicago:20240409T183000
DTSTAMP:20260419T232739
CREATED:20240326T205216Z
LAST-MODIFIED:20240326T205216Z
UID:10001071-1712680200-1712687400@townofveteranny.gov
SUMMARY:Court Clerk Hours
DESCRIPTION:
URL:https://townofveteranny.gov/event/court-clerk-hours/2024-04-09/
CATEGORIES:Court
END:VEVENT
BEGIN:VEVENT
DTSTART;TZID=America/Chicago:20240410T173000
DTEND;TZID=America/Chicago:20240410T173000
DTSTAMP:20260419T232739
CREATED:20230424T203722Z
LAST-MODIFIED:20230424T203722Z
UID:10000143-1712770200-1712770200@townofveteranny.gov
SUMMARY:Court
DESCRIPTION:
URL:https://townofveteranny.gov/event/court/2024-04-10/
CATEGORIES:Court
END:VEVENT
BEGIN:VEVENT
DTSTART;TZID=America/Chicago:20240411T190000
DTEND;TZID=America/Chicago:20240411T190000
DTSTAMP:20260419T232739
CREATED:20230424T203539Z
LAST-MODIFIED:20230424T203539Z
UID:10000016-1712862000-1712862000@townofveteranny.gov
SUMMARY:Town Board Meeting
DESCRIPTION:
URL:https://townofveteranny.gov/event/town-board-meeting/2024-04-11/
CATEGORIES:Town Board
END:VEVENT
BEGIN:VEVENT
DTSTART;TZID=America/Chicago:20240416T163000
DTEND;TZID=America/Chicago:20240416T183000
DTSTAMP:20260419T232739
CREATED:20240326T205216Z
LAST-MODIFIED:20240326T205216Z
UID:10001072-1713285000-1713292200@townofveteranny.gov
SUMMARY:Court Clerk Hours
DESCRIPTION:
URL:https://townofveteranny.gov/event/court-clerk-hours/2024-04-16/
CATEGORIES:Court
END:VEVENT
BEGIN:VEVENT
DTSTART;TZID=America/Chicago:20240417T173000
DTEND;TZID=America/Chicago:20240417T173000
DTSTAMP:20260419T232739
CREATED:20230424T203752Z
LAST-MODIFIED:20230424T203752Z
UID:10000207-1713375000-1713375000@townofveteranny.gov
SUMMARY:Court
DESCRIPTION:
URL:https://townofveteranny.gov/event/court-2/2024-04-17/
CATEGORIES:Court
END:VEVENT
BEGIN:VEVENT
DTSTART;TZID=America/Chicago:20240418T190000
DTEND;TZID=America/Chicago:20240418T190000
DTSTAMP:20260419T232739
CREATED:20240412T172003Z
LAST-MODIFIED:20240412T172003Z
UID:10001193-1713466800-1713466800@townofveteranny.gov
SUMMARY:Town Board Meeting
DESCRIPTION:
URL:https://townofveteranny.gov/event/town-board-meeting-5/2024-04-18/
CATEGORIES:Town Board
END:VEVENT
BEGIN:VEVENT
DTSTART;TZID=America/Chicago:20240419T180000
DTEND;TZID=America/Chicago:20240419T180000
DTSTAMP:20260419T232739
CREATED:20240412T190557Z
LAST-MODIFIED:20240412T190713Z
UID:10001202-1713549600-1713549600@townofveteranny.gov
SUMMARY:Town of Veteran Historical Society Meeting
DESCRIPTION:Location: 4049 Watkins Rd.\, Millport\, NY 14864
URL:https://townofveteranny.gov/event/town-of-veteran-historical-society-meeting-6/
CATEGORIES:Town Board
END:VEVENT
BEGIN:VEVENT
DTSTART;VALUE=DATE:20240422
DTEND;VALUE=DATE:20240423
DTSTAMP:20260419T232739
CREATED:20240419T180914Z
LAST-MODIFIED:20240419T181140Z
UID:10001203-1713744000-1713830399@townofveteranny.gov
SUMMARY:No Code Enforcement Office Hours
DESCRIPTION:If you need to contact the Code Enforcement Officer during that time\, Call (607) 742-9645.
URL:https://townofveteranny.gov/event/no-office-hours-for-code-enforcement-officer/
CATEGORIES:Town Board
END:VEVENT
BEGIN:VEVENT
DTSTART;TZID=America/Chicago:20240423T163000
DTEND;TZID=America/Chicago:20240423T183000
DTSTAMP:20260419T232739
CREATED:20240326T205216Z
LAST-MODIFIED:20240326T205216Z
UID:10001073-1713889800-1713897000@townofveteranny.gov
SUMMARY:Court Clerk Hours
DESCRIPTION:
URL:https://townofveteranny.gov/event/court-clerk-hours/2024-04-23/
CATEGORIES:Court
END:VEVENT
BEGIN:VEVENT
DTSTART;VALUE=DATE:20240430
DTEND;VALUE=DATE:20240501
DTSTAMP:20260419T232740
CREATED:20240326T205428Z
LAST-MODIFIED:20240326T205428Z
UID:10001179-1714435200-1714521599@townofveteranny.gov
SUMMARY:No Court Clerk Hours
DESCRIPTION:
URL:https://townofveteranny.gov/event/no-court-clerk-hours/
CATEGORIES:Court
END:VEVENT
END:VCALENDAR