BEGIN:VCALENDAR
VERSION:2.0
PRODID:-//Town of Veteran - ECPv6.15.17.1//NONSGML v1.0//EN
CALSCALE:GREGORIAN
METHOD:PUBLISH
X-WR-CALNAME:Town of Veteran
X-ORIGINAL-URL:https://townofveteranny.gov
X-WR-CALDESC:Events for Town of Veteran
REFRESH-INTERVAL;VALUE=DURATION:PT1H
X-Robots-Tag:noindex
X-PUBLISHED-TTL:PT1H
BEGIN:VTIMEZONE
TZID:America/Chicago
BEGIN:DAYLIGHT
TZOFFSETFROM:-0600
TZOFFSETTO:-0500
TZNAME:CDT
DTSTART:20230312T080000
END:DAYLIGHT
BEGIN:STANDARD
TZOFFSETFROM:-0500
TZOFFSETTO:-0600
TZNAME:CST
DTSTART:20231105T070000
END:STANDARD
BEGIN:DAYLIGHT
TZOFFSETFROM:-0600
TZOFFSETTO:-0500
TZNAME:CDT
DTSTART:20240310T080000
END:DAYLIGHT
BEGIN:STANDARD
TZOFFSETFROM:-0500
TZOFFSETTO:-0600
TZNAME:CST
DTSTART:20241103T070000
END:STANDARD
BEGIN:DAYLIGHT
TZOFFSETFROM:-0600
TZOFFSETTO:-0500
TZNAME:CDT
DTSTART:20250309T080000
END:DAYLIGHT
BEGIN:STANDARD
TZOFFSETFROM:-0500
TZOFFSETTO:-0600
TZNAME:CST
DTSTART:20251102T070000
END:STANDARD
END:VTIMEZONE
BEGIN:VEVENT
DTSTART;TZID=America/Chicago:20240805T190000
DTEND;TZID=America/Chicago:20240805T190000
DTSTAMP:20260419T171415
CREATED:20231214T192907Z
LAST-MODIFIED:20231214T192907Z
UID:10000776-1722884400-1722884400@townofveteranny.gov
SUMMARY:Planning Board Meeting
DESCRIPTION:
URL:https://townofveteranny.gov/event/planning-board-meeting-5/2024-08-05/
CATEGORIES:Planning Board
END:VEVENT
BEGIN:VEVENT
DTSTART;TZID=America/Chicago:20240806T163000
DTEND;TZID=America/Chicago:20240806T183000
DTSTAMP:20260419T171415
CREATED:20240513T191115Z
LAST-MODIFIED:20240513T191115Z
UID:10001227-1722961800-1722969000@townofveteranny.gov
SUMMARY:Court Clerk Hours
DESCRIPTION:
URL:https://townofveteranny.gov/event/court-clerk-hours-3/2024-08-06/
CATEGORIES:Court
END:VEVENT
BEGIN:VEVENT
DTSTART;TZID=America/Chicago:20240808T190000
DTEND;TZID=America/Chicago:20240808T190000
DTSTAMP:20260419T171415
CREATED:20230424T203539Z
LAST-MODIFIED:20230424T203539Z
UID:10000020-1723143600-1723143600@townofveteranny.gov
SUMMARY:Town Board Meeting
DESCRIPTION:
URL:https://townofveteranny.gov/event/town-board-meeting/2024-08-08/
CATEGORIES:Town Board
END:VEVENT
BEGIN:VEVENT
DTSTART;TZID=America/Chicago:20240813T163000
DTEND;TZID=America/Chicago:20240813T183000
DTSTAMP:20260419T171415
CREATED:20240513T191115Z
LAST-MODIFIED:20240513T191115Z
UID:10001228-1723566600-1723573800@townofveteranny.gov
SUMMARY:Court Clerk Hours
DESCRIPTION:
URL:https://townofveteranny.gov/event/court-clerk-hours-3/2024-08-13/
CATEGORIES:Court
END:VEVENT
BEGIN:VEVENT
DTSTART;TZID=America/Chicago:20240814T173000
DTEND;TZID=America/Chicago:20240814T173000
DTSTAMP:20260419T171415
CREATED:20230424T203722Z
LAST-MODIFIED:20230424T203722Z
UID:10000147-1723656600-1723656600@townofveteranny.gov
SUMMARY:Court
DESCRIPTION:
URL:https://townofveteranny.gov/event/court/2024-08-14/
CATEGORIES:Court
END:VEVENT
BEGIN:VEVENT
DTSTART;TZID=America/Chicago:20240815T190000
DTEND;TZID=America/Chicago:20240815T190000
DTSTAMP:20260419T171415
CREATED:20240412T172003Z
LAST-MODIFIED:20240412T172003Z
UID:10001197-1723748400-1723748400@townofveteranny.gov
SUMMARY:Town Board Meeting
DESCRIPTION:
URL:https://townofveteranny.gov/event/town-board-meeting-5/2024-08-15/
CATEGORIES:Town Board
END:VEVENT
BEGIN:VEVENT
DTSTART;TZID=America/Chicago:20240820T163000
DTEND;TZID=America/Chicago:20240820T183000
DTSTAMP:20260419T171415
CREATED:20240513T191115Z
LAST-MODIFIED:20240513T191115Z
UID:10001229-1724171400-1724178600@townofveteranny.gov
SUMMARY:Court Clerk Hours
DESCRIPTION:
URL:https://townofveteranny.gov/event/court-clerk-hours-3/2024-08-20/
CATEGORIES:Court
END:VEVENT
BEGIN:VEVENT
DTSTART;TZID=America/Chicago:20240821T173000
DTEND;TZID=America/Chicago:20240821T173000
DTSTAMP:20260419T171415
CREATED:20230424T203752Z
LAST-MODIFIED:20230424T203752Z
UID:10000211-1724261400-1724261400@townofveteranny.gov
SUMMARY:Court
DESCRIPTION:
URL:https://townofveteranny.gov/event/court-2/2024-08-21/
CATEGORIES:Court
END:VEVENT
BEGIN:VEVENT
DTSTART;TZID=America/Chicago:20240826T093000
DTEND;TZID=America/Chicago:20240902T170000
DTSTAMP:20260419T171415
CREATED:20240822T170703Z
LAST-MODIFIED:20240822T170703Z
UID:10001265-1724664600-1725296400@townofveteranny.gov
SUMMARY:No Code Enforcement Officer
DESCRIPTION:No Code Enforcement Officer 8/26-9/2 2024 \nThe Code Enforcement Officer can be reached by phone (607)742-9645
URL:https://townofveteranny.gov/event/no-code-enforcement-officer/
CATEGORIES:Planning Board
ATTACH;FMTTYPE=image/jpeg:https://cdn.townweb.com/townofveteranny.gov/wp-content/uploads/2024/08/2023-Fall-Benjamin-Rd-1.jpg
END:VEVENT
BEGIN:VEVENT
DTSTART;TZID=America/Chicago:20240827T163000
DTEND;TZID=America/Chicago:20240827T183000
DTSTAMP:20260419T171415
CREATED:20240513T191115Z
LAST-MODIFIED:20240513T191115Z
UID:10001230-1724776200-1724783400@townofveteranny.gov
SUMMARY:Court Clerk Hours
DESCRIPTION:
URL:https://townofveteranny.gov/event/court-clerk-hours-3/2024-08-27/
CATEGORIES:Court
END:VEVENT
END:VCALENDAR