BEGIN:VCALENDAR
VERSION:2.0
PRODID:-//Town of Veteran - ECPv6.15.17.1//NONSGML v1.0//EN
CALSCALE:GREGORIAN
METHOD:PUBLISH
X-WR-CALNAME:Town of Veteran
X-ORIGINAL-URL:https://townofveteranny.gov
X-WR-CALDESC:Events for Town of Veteran
REFRESH-INTERVAL;VALUE=DURATION:PT1H
X-Robots-Tag:noindex
X-PUBLISHED-TTL:PT1H
BEGIN:VTIMEZONE
TZID:America/Chicago
BEGIN:DAYLIGHT
TZOFFSETFROM:-0600
TZOFFSETTO:-0500
TZNAME:CDT
DTSTART:20230312T080000
END:DAYLIGHT
BEGIN:STANDARD
TZOFFSETFROM:-0500
TZOFFSETTO:-0600
TZNAME:CST
DTSTART:20231105T070000
END:STANDARD
BEGIN:DAYLIGHT
TZOFFSETFROM:-0600
TZOFFSETTO:-0500
TZNAME:CDT
DTSTART:20240310T080000
END:DAYLIGHT
BEGIN:STANDARD
TZOFFSETFROM:-0500
TZOFFSETTO:-0600
TZNAME:CST
DTSTART:20241103T070000
END:STANDARD
BEGIN:DAYLIGHT
TZOFFSETFROM:-0600
TZOFFSETTO:-0500
TZNAME:CDT
DTSTART:20250309T080000
END:DAYLIGHT
BEGIN:STANDARD
TZOFFSETFROM:-0500
TZOFFSETTO:-0600
TZNAME:CST
DTSTART:20251102T070000
END:STANDARD
END:VTIMEZONE
BEGIN:VEVENT
DTSTART;TZID=America/Chicago:20240826T093000
DTEND;TZID=America/Chicago:20240902T170000
DTSTAMP:20260419T141527
CREATED:20240822T170703Z
LAST-MODIFIED:20240822T170703Z
UID:10001265-1724664600-1725296400@townofveteranny.gov
SUMMARY:No Code Enforcement Officer
DESCRIPTION:No Code Enforcement Officer 8/26-9/2 2024 \nThe Code Enforcement Officer can be reached by phone (607)742-9645
URL:https://townofveteranny.gov/event/no-code-enforcement-officer/
CATEGORIES:Planning Board
ATTACH;FMTTYPE=image/jpeg:https://cdn.townweb.com/townofveteranny.gov/wp-content/uploads/2024/08/2023-Fall-Benjamin-Rd-1.jpg
END:VEVENT
BEGIN:VEVENT
DTSTART;TZID=America/Chicago:20240902T190000
DTEND;TZID=America/Chicago:20240902T190000
DTSTAMP:20260419T141527
CREATED:20231214T192907Z
LAST-MODIFIED:20231214T192907Z
UID:10000777-1725303600-1725303600@townofveteranny.gov
SUMMARY:Planning Board Meeting
DESCRIPTION:
URL:https://townofveteranny.gov/event/planning-board-meeting-5/2024-09-02/
CATEGORIES:Planning Board
END:VEVENT
BEGIN:VEVENT
DTSTART;TZID=America/Chicago:20240903T163000
DTEND;TZID=America/Chicago:20240903T183000
DTSTAMP:20260419T141527
CREATED:20240513T191115Z
LAST-MODIFIED:20240513T191115Z
UID:10001231-1725381000-1725388200@townofveteranny.gov
SUMMARY:Court Clerk Hours
DESCRIPTION:
URL:https://townofveteranny.gov/event/court-clerk-hours-3/2024-09-03/
CATEGORIES:Court
END:VEVENT
BEGIN:VEVENT
DTSTART;TZID=America/Chicago:20240910T163000
DTEND;TZID=America/Chicago:20240910T183000
DTSTAMP:20260419T141527
CREATED:20240513T191115Z
LAST-MODIFIED:20240513T191115Z
UID:10001232-1725985800-1725993000@townofveteranny.gov
SUMMARY:Court Clerk Hours
DESCRIPTION:
URL:https://townofveteranny.gov/event/court-clerk-hours-3/2024-09-10/
CATEGORIES:Court
END:VEVENT
BEGIN:VEVENT
DTSTART;TZID=America/Chicago:20240911T173000
DTEND;TZID=America/Chicago:20240911T173000
DTSTAMP:20260419T141527
CREATED:20230424T203722Z
LAST-MODIFIED:20230424T203722Z
UID:10000148-1726075800-1726075800@townofveteranny.gov
SUMMARY:Court
DESCRIPTION:
URL:https://townofveteranny.gov/event/court/2024-09-11/
CATEGORIES:Court
END:VEVENT
BEGIN:VEVENT
DTSTART;TZID=America/Chicago:20240912T190000
DTEND;TZID=America/Chicago:20240912T190000
DTSTAMP:20260419T141527
CREATED:20230424T203539Z
LAST-MODIFIED:20230424T203539Z
UID:10000021-1726167600-1726167600@townofveteranny.gov
SUMMARY:Town Board Meeting
DESCRIPTION:
URL:https://townofveteranny.gov/event/town-board-meeting/2024-09-12/
CATEGORIES:Town Board
END:VEVENT
BEGIN:VEVENT
DTSTART;TZID=America/Chicago:20240917T163000
DTEND;TZID=America/Chicago:20240917T183000
DTSTAMP:20260419T141527
CREATED:20240513T191115Z
LAST-MODIFIED:20240513T191115Z
UID:10001233-1726590600-1726597800@townofveteranny.gov
SUMMARY:Court Clerk Hours
DESCRIPTION:
URL:https://townofveteranny.gov/event/court-clerk-hours-3/2024-09-17/
CATEGORIES:Court
END:VEVENT
BEGIN:VEVENT
DTSTART;TZID=America/Chicago:20240918T100000
DTEND;TZID=America/Chicago:20240918T120000
DTSTAMP:20260419T141527
CREATED:20240523T143146Z
LAST-MODIFIED:20240523T143146Z
UID:10001250-1726653600-1726660800@townofveteranny.gov
SUMMARY:Town of Veteran Historical Society Meeting
DESCRIPTION:September Location: Veteran Grange #1108 @ 777 Ridge Road\, HHDS 14845
URL:https://townofveteranny.gov/event/town-of-veteran-historical-society-meeting-7/
CATEGORIES:Town Board
ATTACH;FMTTYPE=image/png:https://cdn.townweb.com/townofveteranny.gov/wp-content/uploads/2023/07/Town-of-Veteran.png
END:VEVENT
BEGIN:VEVENT
DTSTART;TZID=America/Chicago:20240918T173000
DTEND;TZID=America/Chicago:20240918T173000
DTSTAMP:20260419T141527
CREATED:20230424T203752Z
LAST-MODIFIED:20230424T203752Z
UID:10000212-1726680600-1726680600@townofveteranny.gov
SUMMARY:Court
DESCRIPTION:
URL:https://townofveteranny.gov/event/court-2/2024-09-18/
CATEGORIES:Court
END:VEVENT
BEGIN:VEVENT
DTSTART;TZID=America/Chicago:20240919T190000
DTEND;TZID=America/Chicago:20240919T190000
DTSTAMP:20260419T141527
CREATED:20240412T172003Z
LAST-MODIFIED:20240412T172003Z
UID:10001198-1726772400-1726772400@townofveteranny.gov
SUMMARY:Town Board Meeting
DESCRIPTION:
URL:https://townofveteranny.gov/event/town-board-meeting-5/2024-09-19/
CATEGORIES:Town Board
END:VEVENT
BEGIN:VEVENT
DTSTART;TZID=America/Chicago:20240924T163000
DTEND;TZID=America/Chicago:20240924T183000
DTSTAMP:20260419T141527
CREATED:20240513T191115Z
LAST-MODIFIED:20240513T191115Z
UID:10001234-1727195400-1727202600@townofveteranny.gov
SUMMARY:Court Clerk Hours
DESCRIPTION:
URL:https://townofveteranny.gov/event/court-clerk-hours-3/2024-09-24/
CATEGORIES:Court
END:VEVENT
END:VCALENDAR